Package: structToolbox Version: 1.20.0 Command: /Library/Frameworks/R.framework/Resources/bin/R CMD INSTALL structToolbox StartedAt: 2025-10-13 16:52:56 -0400 (Mon, 13 Oct 2025) EndedAt: 2025-10-13 16:53:38 -0400 (Mon, 13 Oct 2025) EllapsedTime: 41.9 seconds RetCode: 0 Status: OK