Package: structToolbox Version: 1.20.0 Command: rm -rf structToolbox.buildbin-libdir && mkdir structToolbox.buildbin-libdir && /Users/biocbuild/BBS/utils/build-universal.sh structToolbox_1.20.0.tar.gz /Library/Frameworks/R.framework/Resources/bin/R structToolbox.buildbin-libdir StartedAt: 2025-10-15 20:44:33 -0400 (Wed, 15 Oct 2025) EndedAt: 2025-10-15 20:45:20 -0400 (Wed, 15 Oct 2025) EllapsedTime: 47.6 seconds RetCode: 0 Status: OK PackageFile: structToolbox_1.20.0.tgz PackageFileSize: 5.624 MiB