Package: struct Version: 1.20.2 Command: /home/biocbuild/bbs-3.21-bioc/R/bin/R CMD INSTALL struct StartedAt: 2025-10-15 15:30:49 -0400 (Wed, 15 Oct 2025) EndedAt: 2025-10-15 15:31:14 -0400 (Wed, 15 Oct 2025) EllapsedTime: 25.3 seconds RetCode: 0 Status: OK