Package: struct Version: 1.20.2 Command: /home/biocbuild/bbs-3.21-bioc/R/bin/R CMD build --keep-empty-dirs --no-resave-data struct StartedAt: 2025-10-15 20:11:07 -0400 (Wed, 15 Oct 2025) EndedAt: 2025-10-15 20:11:46 -0400 (Wed, 15 Oct 2025) EllapsedTime: 39.0 seconds RetCode: 0 Status: OK PackageFile: struct_1.20.2.tar.gz PackageFileSize: 598.3 KiB