Package: struct Version: 1.20.2 Command: /Library/Frameworks/R.framework/Resources/bin/R CMD INSTALL struct StartedAt: 2025-10-13 15:57:41 -0400 (Mon, 13 Oct 2025) EndedAt: 2025-10-13 15:58:37 -0400 (Mon, 13 Oct 2025) EllapsedTime: 55.9 seconds RetCode: 0 Status: OK