Package: struct Version: 1.20.2 Command: /Library/Frameworks/R.framework/Resources/bin/R CMD build --keep-empty-dirs --no-resave-data struct StartedAt: 2025-10-13 23:04:02 -0400 (Mon, 13 Oct 2025) EndedAt: 2025-10-13 23:05:34 -0400 (Mon, 13 Oct 2025) EllapsedTime: 91.5 seconds RetCode: 0 Status: OK PackageFile: struct_1.20.2.tar.gz PackageFileSize: 604.5 KiB