Package: struct Version: 1.20.2 Command: /home/biocbuild/R/R/bin/R CMD INSTALL struct StartedAt: 2025-10-13 20:46:31 -0000 (Mon, 13 Oct 2025) EndedAt: 2025-10-13 20:47:09 -0000 (Mon, 13 Oct 2025) EllapsedTime: 37.8 seconds RetCode: 0 Status: OK