Package: struct Version: 1.20.2 Command: /home/biocbuild/R/R/bin/R CMD build --keep-empty-dirs --no-resave-data struct StartedAt: 2025-10-14 05:10:35 -0000 (Tue, 14 Oct 2025) EndedAt: 2025-10-14 05:11:31 -0000 (Tue, 14 Oct 2025) EllapsedTime: 56.0 seconds RetCode: 0 Status: OK PackageFile: struct_1.20.2.tar.gz PackageFileSize: 662.1 KiB