Package: struct Version: 1.20.2 Command: /Library/Frameworks/R.framework/Resources/bin/R CMD INSTALL struct StartedAt: 2025-10-13 16:52:25 -0400 (Mon, 13 Oct 2025) EndedAt: 2025-10-13 16:52:56 -0400 (Mon, 13 Oct 2025) EllapsedTime: 30.7 seconds RetCode: 0 Status: OK