Package: strandCheckR Version: 1.26.0 Command: /home/biocbuild/bbs-3.21-bioc/R/bin/R CMD INSTALL strandCheckR StartedAt: 2025-10-15 15:53:04 -0400 (Wed, 15 Oct 2025) EndedAt: 2025-10-15 15:53:43 -0400 (Wed, 15 Oct 2025) EllapsedTime: 38.3 seconds RetCode: 0 Status: OK