Package: strandCheckR Version: 1.26.0 Command: /home/biocbuild/R/R/bin/R CMD INSTALL strandCheckR StartedAt: 2025-10-13 21:12:16 -0000 (Mon, 13 Oct 2025) EndedAt: 2025-10-13 21:13:11 -0000 (Mon, 13 Oct 2025) EllapsedTime: 55.3 seconds RetCode: 0 Status: OK