Package: stepNorm Version: 1.80.0 Command: /home/biocbuild/R/R/bin/R CMD build --keep-empty-dirs --no-resave-data stepNorm StartedAt: 2025-10-14 05:09:41 -0000 (Tue, 14 Oct 2025) EndedAt: 2025-10-14 05:09:42 -0000 (Tue, 14 Oct 2025) EllapsedTime: 1.0 seconds RetCode: 0 Status: OK PackageFile: stepNorm_1.80.0.tar.gz PackageFileSize: 460.2 KiB