Package: stepNorm Version: 1.80.0 Command: /Library/Frameworks/R.framework/Resources/bin/R CMD build --keep-empty-dirs --no-resave-data stepNorm StartedAt: 2025-10-14 10:30:55 -0400 (Tue, 14 Oct 2025) EndedAt: 2025-10-14 10:30:58 -0400 (Tue, 14 Oct 2025) EllapsedTime: 2.3 seconds RetCode: 0 Status: OK PackageFile: stepNorm_1.80.0.tar.gz PackageFileSize: 460.2 KiB