Package: stepNorm Version: 1.80.0 Command: rm -rf stepNorm.buildbin-libdir && mkdir stepNorm.buildbin-libdir && /Users/biocbuild/BBS/utils/build-universal.sh stepNorm_1.80.0.tar.gz /Library/Frameworks/R.framework/Resources/bin/R stepNorm.buildbin-libdir StartedAt: 2025-10-15 20:44:12 -0400 (Wed, 15 Oct 2025) EndedAt: 2025-10-15 20:44:18 -0400 (Wed, 15 Oct 2025) EllapsedTime: 5.8 seconds RetCode: 0 Status: OK PackageFile: stepNorm_1.80.0.tgz PackageFileSize: 553.8 KiB