Package: statTarget Version: 1.38.0 Command: /Library/Frameworks/R.framework/Resources/bin/R CMD build --keep-empty-dirs --no-resave-data statTarget StartedAt: 2025-10-14 10:30:41 -0400 (Tue, 14 Oct 2025) EndedAt: 2025-10-14 10:30:54 -0400 (Tue, 14 Oct 2025) EllapsedTime: 13.5 seconds RetCode: 0 Status: OK PackageFile: statTarget_1.38.0.tar.gz PackageFileSize: 779.1 KiB