Package: ssviz Version: 1.42.0 Command: /home/biocbuild/R/R/bin/R CMD INSTALL ssviz StartedAt: 2025-10-13 20:29:06 -0000 (Mon, 13 Oct 2025) EndedAt: 2025-10-13 20:29:27 -0000 (Mon, 13 Oct 2025) EllapsedTime: 21.5 seconds RetCode: 0 Status: OK