Package: ssize Version: 1.82.0 Command: /home/biocbuild/R/R/bin/R CMD build --keep-empty-dirs --no-resave-data ssize StartedAt: 2025-10-14 05:08:15 -0000 (Tue, 14 Oct 2025) EndedAt: 2025-10-14 05:08:24 -0000 (Tue, 14 Oct 2025) EllapsedTime: 9.0 seconds RetCode: 0 Status: OK PackageFile: ssize_1.82.0.tar.gz PackageFileSize: 532.3 KiB