Package: ssize Version: 1.82.0 Command: /Library/Frameworks/R.framework/Resources/bin/R CMD INSTALL ssize StartedAt: 2025-10-13 15:10:21 -0400 (Mon, 13 Oct 2025) EndedAt: 2025-10-13 15:10:28 -0400 (Mon, 13 Oct 2025) EllapsedTime: 7.3 seconds RetCode: 0 Status: OK