Package: ssize Version: 1.82.0 Command: rm -rf ssize.buildbin-libdir && mkdir ssize.buildbin-libdir && /Users/biocbuild/BBS/utils/build-universal.sh ssize_1.82.0.tar.gz /Library/Frameworks/R.framework/Resources/bin/R ssize.buildbin-libdir StartedAt: 2025-10-15 20:43:17 -0400 (Wed, 15 Oct 2025) EndedAt: 2025-10-15 20:43:20 -0400 (Wed, 15 Oct 2025) EllapsedTime: 3.3 seconds RetCode: 0 Status: OK PackageFile: ssize_1.82.0.tgz PackageFileSize: 536.7 KiB