Package: ssPATHS Version: 1.22.0 Command: /home/biocbuild/R/R/bin/R CMD build --keep-empty-dirs --no-resave-data ssPATHS StartedAt: 2025-10-14 05:08:31 -0000 (Tue, 14 Oct 2025) EndedAt: 2025-10-14 05:09:23 -0000 (Tue, 14 Oct 2025) EllapsedTime: 52.0 seconds RetCode: 0 Status: OK PackageFile: ssPATHS_1.22.0.tar.gz PackageFileSize: 3.668 MiB