Package: ssPATHS Version: 1.22.0 Command: /Library/Frameworks/R.framework/Resources/bin/R CMD build --keep-empty-dirs --no-resave-data ssPATHS StartedAt: 2025-04-21 17:47:50 -0400 (Mon, 21 Apr 2025) EndedAt: 2025-04-21 17:48:08 -0400 (Mon, 21 Apr 2025) EllapsedTime: 18.2 seconds RetCode: 0 Status: OK PackageFile: ssPATHS_1.22.0.tar.gz PackageFileSize: 3.672 MiB