Package: ssPATHS Version: 1.22.0 Command: rm -rf ssPATHS.buildbin-libdir && mkdir ssPATHS.buildbin-libdir && /Users/biocbuild/BBS/utils/build-universal.sh ssPATHS_1.22.0.tar.gz /Library/Frameworks/R.framework/Resources/bin/R ssPATHS.buildbin-libdir StartedAt: 2025-10-15 20:43:20 -0400 (Wed, 15 Oct 2025) EndedAt: 2025-10-15 20:43:54 -0400 (Wed, 15 Oct 2025) EllapsedTime: 33.9 seconds RetCode: 0 Status: OK PackageFile: ssPATHS_1.22.0.tgz PackageFileSize: 3.704 MiB