Package: splineTimeR Version: 1.36.0 Command: /home/biocbuild/R/R/bin/R CMD INSTALL splineTimeR StartedAt: 2025-10-13 20:44:31 -0000 (Mon, 13 Oct 2025) EndedAt: 2025-10-13 20:44:53 -0000 (Mon, 13 Oct 2025) EllapsedTime: 21.9 seconds RetCode: 0 Status: OK