Package: spkTools Version: 1.64.0 Command: /home/biocbuild/bbs-3.21-bioc/R/bin/R CMD INSTALL spkTools StartedAt: 2025-10-15 15:13:10 -0400 (Wed, 15 Oct 2025) EndedAt: 2025-10-15 15:13:15 -0400 (Wed, 15 Oct 2025) EllapsedTime: 4.7 seconds RetCode: 0 Status: OK