Package: spkTools Version: 1.64.0 Command: /home/biocbuild/bbs-3.21-bioc/R/bin/R CMD check --install=check:spkTools.install-out.txt --library=/home/biocbuild/bbs-3.21-bioc/R/site-library --timings spkTools_1.64.0.tar.gz StartedAt: 2025-10-16 03:59:28 -0400 (Thu, 16 Oct 2025) EndedAt: 2025-10-16 04:00:51 -0400 (Thu, 16 Oct 2025) EllapsedTime: 83.2 seconds RetCode: 0 Status: OK CheckDir: spkTools.Rcheck Warnings: 0