Package: spkTools Version: 1.64.0 Command: /home/biocbuild/bbs-3.21-bioc/R/bin/R CMD build --keep-empty-dirs --no-resave-data spkTools StartedAt: 2025-10-15 20:05:57 -0400 (Wed, 15 Oct 2025) EndedAt: 2025-10-15 20:06:09 -0400 (Wed, 15 Oct 2025) EllapsedTime: 12.0 seconds RetCode: 0 Status: OK PackageFile: spkTools_1.64.0.tar.gz PackageFileSize: 663.9 KiB