Package: spkTools Version: 1.64.0 Command: /home/biocbuild/R/R/bin/R CMD INSTALL spkTools StartedAt: 2025-10-13 20:25:21 -0000 (Mon, 13 Oct 2025) EndedAt: 2025-10-13 20:25:30 -0000 (Mon, 13 Oct 2025) EllapsedTime: 8.2 seconds RetCode: 0 Status: OK