Package: spkTools Version: 1.64.0 Command: /Library/Frameworks/R.framework/Resources/bin/R CMD INSTALL spkTools StartedAt: 2025-10-13 15:55:09 -0400 (Mon, 13 Oct 2025) EndedAt: 2025-10-13 15:55:14 -0400 (Mon, 13 Oct 2025) EllapsedTime: 5.1 seconds RetCode: 0 Status: OK