Package: spkTools Version: 1.64.0 Command: rm -rf spkTools.buildbin-libdir && mkdir spkTools.buildbin-libdir && /Users/biocbuild/BBS/utils/build-universal.sh spkTools_1.64.0.tar.gz /Library/Frameworks/R.framework/Resources/bin/R spkTools.buildbin-libdir StartedAt: 2025-10-15 20:40:31 -0400 (Wed, 15 Oct 2025) EndedAt: 2025-10-15 20:40:38 -0400 (Wed, 15 Oct 2025) EllapsedTime: 6.8 seconds RetCode: 0 Status: OK PackageFile: spkTools_1.64.0.tgz PackageFileSize: 839.7 KiB