Package: spatialSimGP Version: 1.2.0 Command: /home/biocbuild/bbs-3.21-bioc/R/bin/R CMD build --keep-empty-dirs --no-resave-data spatialSimGP StartedAt: 2025-10-15 20:04:31 -0400 (Wed, 15 Oct 2025) EndedAt: 2025-10-15 20:05:34 -0400 (Wed, 15 Oct 2025) EllapsedTime: 63.0 seconds RetCode: 0 Status: OK PackageFile: spatialSimGP_1.2.0.tar.gz PackageFileSize: 695.9 KiB