Package: spatialSimGP Version: 1.2.0 Command: /Library/Frameworks/R.framework/Resources/bin/R CMD build --keep-empty-dirs --no-resave-data spatialSimGP StartedAt: 2025-10-13 22:54:08 -0400 (Mon, 13 Oct 2025) EndedAt: 2025-10-13 22:56:14 -0400 (Mon, 13 Oct 2025) EllapsedTime: 125.5 seconds RetCode: 0 Status: OK PackageFile: spatialSimGP_1.2.0.tar.gz PackageFileSize: 730.8 KiB