Package: spatialSimGP Version: 1.2.0 Command: rm -rf spatialSimGP.buildbin-libdir && mkdir spatialSimGP.buildbin-libdir && /Users/biocbuild/BBS/utils/build-universal.sh spatialSimGP_1.2.0.tar.gz /Library/Frameworks/R.framework/Resources/bin/R spatialSimGP.buildbin-libdir StartedAt: 2025-10-14 14:51:54 -0400 (Tue, 14 Oct 2025) EndedAt: 2025-10-14 14:52:41 -0400 (Tue, 14 Oct 2025) EllapsedTime: 47.7 seconds RetCode: 0 Status: OK PackageFile: spatialSimGP_1.2.0.tgz PackageFileSize: 740 KiB