Package: spatialSimGP Version: 1.2.0 Command: /home/biocbuild/R/R/bin/R CMD INSTALL spatialSimGP StartedAt: 2025-10-13 20:48:18 -0000 (Mon, 13 Oct 2025) EndedAt: 2025-10-13 20:48:52 -0000 (Mon, 13 Oct 2025) EllapsedTime: 33.3 seconds RetCode: 0 Status: OK