Package: spatialHeatmap Version: 2.14.1 Command: /home/biocbuild/bbs-3.21-bioc/R/bin/R CMD INSTALL spatialHeatmap StartedAt: 2025-10-15 15:32:06 -0400 (Wed, 15 Oct 2025) EndedAt: 2025-10-15 15:32:48 -0400 (Wed, 15 Oct 2025) EllapsedTime: 41.8 seconds RetCode: 0 Status: OK