Package: spatialHeatmap Version: 2.14.1 Command: /home/biocbuild/bbs-3.21-bioc/R/bin/R CMD build --keep-empty-dirs --no-resave-data spatialHeatmap StartedAt: 2025-10-15 20:04:17 -0400 (Wed, 15 Oct 2025) EndedAt: 2025-10-15 20:08:56 -0400 (Wed, 15 Oct 2025) EllapsedTime: 278.3 seconds RetCode: 0 Status: OK PackageFile: spatialHeatmap_2.14.1.tar.gz PackageFileSize: 33.77 MiB