Package: spatialHeatmap Version: 2.14.1 Command: /Library/Frameworks/R.framework/Resources/bin/R CMD build --keep-empty-dirs --no-resave-data spatialHeatmap StartedAt: 2025-10-13 22:53:19 -0400 (Mon, 13 Oct 2025) EndedAt: 2025-10-13 23:02:56 -0400 (Mon, 13 Oct 2025) EllapsedTime: 577.1 seconds RetCode: 0 Status: OK PackageFile: spatialHeatmap_2.14.1.tar.gz PackageFileSize: 35.22 MiB