Package: spatialHeatmap Version: 2.14.1 Command: /home/biocbuild/R/R/bin/R CMD INSTALL spatialHeatmap StartedAt: 2025-10-13 20:47:54 -0000 (Mon, 13 Oct 2025) EndedAt: 2025-10-13 20:48:54 -0000 (Mon, 13 Oct 2025) EllapsedTime: 59.6 seconds RetCode: 0 Status: OK