Package: spatialHeatmap Version: 2.14.1 Command: /home/biocbuild/R/R/bin/R CMD check --install=check:spatialHeatmap.install-out.txt --library=/home/biocbuild/R/R/site-library --no-vignettes --timings spatialHeatmap_2.14.1.tar.gz StartedAt: 2025-10-14 14:40:09 -0000 (Tue, 14 Oct 2025) EndedAt: 2025-10-14 14:50:37 -0000 (Tue, 14 Oct 2025) EllapsedTime: 627.8 seconds RetCode: 0 Status: OK CheckDir: spatialHeatmap.Rcheck Warnings: 0