Package: spatialHeatmap Version: 2.14.1 Command: /home/biocbuild/R/R/bin/R CMD build --keep-empty-dirs --no-resave-data spatialHeatmap StartedAt: 2025-10-14 04:58:02 -0000 (Tue, 14 Oct 2025) EndedAt: 2025-10-14 05:05:25 -0000 (Tue, 14 Oct 2025) EllapsedTime: 443.2 seconds RetCode: 0 Status: OK PackageFile: spatialHeatmap_2.14.1.tar.gz PackageFileSize: 33.68 MiB