Package: spatialHeatmap Version: 2.14.1 Command: /Library/Frameworks/R.framework/Resources/bin/R CMD build --keep-empty-dirs --no-resave-data spatialHeatmap StartedAt: 2025-10-14 10:06:02 -0400 (Tue, 14 Oct 2025) EndedAt: 2025-10-14 10:12:17 -0400 (Tue, 14 Oct 2025) EllapsedTime: 374.6 seconds RetCode: 0 Status: OK PackageFile: spatialHeatmap_2.14.1.tar.gz PackageFileSize: 35.36 MiB