Package: spatialHeatmap Version: 2.14.1 Command: rm -rf spatialHeatmap.buildbin-libdir && mkdir spatialHeatmap.buildbin-libdir && /Users/biocbuild/BBS/utils/build-universal.sh spatialHeatmap_2.14.1.tar.gz /Library/Frameworks/R.framework/Resources/bin/R spatialHeatmap.buildbin-libdir StartedAt: 2025-10-15 20:39:03 -0400 (Wed, 15 Oct 2025) EndedAt: 2025-10-15 20:40:06 -0400 (Wed, 15 Oct 2025) EllapsedTime: 62.8 seconds RetCode: 0 Status: OK PackageFile: spatialHeatmap_2.14.1.tgz PackageFileSize: 35.12 MiB