Package: spatialDE Version: 1.14.1 Command: /home/biocbuild/bbs-3.21-bioc/R/bin/R CMD INSTALL spatialDE StartedAt: 2025-10-15 16:00:10 -0400 (Wed, 15 Oct 2025) EndedAt: 2025-10-15 16:00:30 -0400 (Wed, 15 Oct 2025) EllapsedTime: 19.5 seconds RetCode: 0 Status: OK