Package: spatialDE Version: 1.14.1 Command: /home/biocbuild/bbs-3.21-bioc/R/bin/R CMD build --keep-empty-dirs --no-resave-data spatialDE StartedAt: 2025-10-15 20:03:11 -0400 (Wed, 15 Oct 2025) EndedAt: 2025-10-15 20:05:40 -0400 (Wed, 15 Oct 2025) EllapsedTime: 149.1 seconds RetCode: 0 Status: OK PackageFile: spatialDE_1.14.1.tar.gz PackageFileSize: 3.711 MiB