Package: spatialDE Version: 1.14.1 Command: /home/biocbuild/R/R/bin/R CMD INSTALL spatialDE StartedAt: 2025-10-13 21:19:52 -0000 (Mon, 13 Oct 2025) EndedAt: 2025-10-13 21:20:22 -0000 (Mon, 13 Oct 2025) EllapsedTime: 29.2 seconds RetCode: 0 Status: OK