Package: spatialDE Version: 1.14.1 Command: /home/biocbuild/R/R/bin/R CMD build --keep-empty-dirs --no-resave-data spatialDE StartedAt: 2025-10-14 04:55:56 -0000 (Tue, 14 Oct 2025) EndedAt: 2025-10-14 04:57:19 -0000 (Tue, 14 Oct 2025) EllapsedTime: 82.0 seconds RetCode: 1 Status: ERROR PackageFile: None PackageFileSize: NA