Package: sparseMatrixStats Version: 1.20.0 Command: /home/biocbuild/bbs-3.21-bioc/R/bin/R CMD check --install=check:sparseMatrixStats.install-out.txt --library=/home/biocbuild/bbs-3.21-bioc/R/site-library --timings sparseMatrixStats_1.20.0.tar.gz StartedAt: 2025-10-16 03:51:05 -0400 (Thu, 16 Oct 2025) EndedAt: 2025-10-16 03:52:04 -0400 (Thu, 16 Oct 2025) EllapsedTime: 59.1 seconds RetCode: 0 Status: OK CheckDir: sparseMatrixStats.Rcheck Warnings: 0