Package: sparseMatrixStats Version: 1.20.0 Command: /home/biocbuild/bbs-3.21-bioc/R/bin/R CMD build --keep-empty-dirs --no-resave-data sparseMatrixStats StartedAt: 2025-10-15 20:01:50 -0400 (Wed, 15 Oct 2025) EndedAt: 2025-10-15 20:02:23 -0400 (Wed, 15 Oct 2025) EllapsedTime: 33.0 seconds RetCode: 0 Status: OK PackageFile: sparseMatrixStats_1.20.0.tar.gz PackageFileSize: 687.7 KiB