Package: sparseMatrixStats Version: 1.20.0 Command: rm -rf sparseMatrixStats.buildbin-libdir && mkdir sparseMatrixStats.buildbin-libdir && /Users/biocbuild/BBS/utils/build-universal.sh sparseMatrixStats_1.20.0.tar.gz /Library/Frameworks/R.framework/Resources/bin/R sparseMatrixStats.buildbin-libdir StartedAt: 2025-10-14 14:51:03 -0400 (Tue, 14 Oct 2025) EndedAt: 2025-10-14 14:52:02 -0400 (Tue, 14 Oct 2025) EllapsedTime: 59.0 seconds RetCode: 0 Status: OK PackageFile: sparseMatrixStats_1.20.0.tgz PackageFileSize: 1.147 MiB