Package: sparrow Version: 1.14.0 Command: /home/biocbuild/R/R/bin/R CMD INSTALL sparrow StartedAt: 2025-10-13 20:44:21 -0000 (Mon, 13 Oct 2025) EndedAt: 2025-10-13 20:45:08 -0000 (Mon, 13 Oct 2025) EllapsedTime: 46.1 seconds RetCode: 0 Status: OK