Package: spacexr Version: 1.0.0 Command: /home/biocbuild/R/R/bin/R CMD INSTALL spacexr StartedAt: 2025-10-13 20:33:32 -0000 (Mon, 13 Oct 2025) EndedAt: 2025-10-13 20:34:15 -0000 (Mon, 13 Oct 2025) EllapsedTime: 42.9 seconds RetCode: 0 Status: OK